BEGIN:VCALENDAR
VERSION:2.0
PRODID:-//Duo Melius - ECPv6.5.1.6//NONSGML v1.0//EN
CALSCALE:GREGORIAN
METHOD:PUBLISH
X-WR-CALNAME:Duo Melius
X-ORIGINAL-URL:https://duomelius.fr
X-WR-CALDESC:évènements pour Duo Melius
REFRESH-INTERVAL;VALUE=DURATION:PT1H
X-Robots-Tag:noindex
X-PUBLISHED-TTL:PT1H
BEGIN:VTIMEZONE
TZID:UTC
BEGIN:STANDARD
TZOFFSETFROM:+0000
TZOFFSETTO:+0000
TZNAME:UTC
DTSTART:20230101T000000
END:STANDARD
END:VTIMEZONE
BEGIN:VEVENT
DTSTART;VALUE=DATE:20230201
DTEND;VALUE=DATE:20230217
DTSTAMP:20260423T041340
CREATED:20180531T082925Z
LAST-MODIFIED:20180531T083000Z
UID:610-1675209600-1676591999@duomelius.fr
SUMMARY:Milan Fashion Week: Model Review
DESCRIPTION:Mi conubia sapien\, adipiscing donec cum sit commodo ut vitae\, rutrum sagittis magna augue convallis eu vel\, dolor porttitor malesuada turpis velit amet volutpat. Interdum libero auctor\, lacinia vivamus\, lorem elit non magnis ac vitae volutpat. Arcu ut\, ullamcorper ultrices in leo vestibulum sapien. Commodo proin at pharetra vitae volutpat\, sit interdum\, nam fringilla sed in ligula veniam risus. Mauris id id rhoncus rutrum eu. Massa diam nibh\, adipiscing quisque cubilia lacinia nunc nonummy morbi\, montes integer\, ornare venenatis sit vestibulum eget\, et ridiculus wisi tristique. Enim morbi lacinia ipsum volutpat velit dictum\, felis urna elit cum habitasse vitae risus\, nec augue ultricies mi nulla in urna\, in erat. Eu purus id vitae mi curabitur\, risus mattis elementum\, fermentum felis sit est.
URL:https://duomelius.fr/event/milan-fashion-week-model-review/
LOCATION:Martos Gallery\, 176 W street name\, New York\, 10014\, United States
ATTACH;FMTTYPE=image/jpeg:https://duomelius.fr/wp-content/uploads/2018/01/blog-13-copyright.jpg
ORGANIZER;CN="Podium Model Management":MAILTO:yoursite@example.com
END:VEVENT
END:VCALENDAR